BEGIN:VCALENDAR
VERSION:2.0
PRODID:-//Urbana Place Senior Living in Brooklyn Park - ECPv6.11.2.1//NONSGML v1.0//EN
CALSCALE:GREGORIAN
METHOD:PUBLISH
X-WR-CALNAME:Urbana Place Senior Living in Brooklyn Park
X-ORIGINAL-URL:https://urbanaplaceseniorliving.com
X-WR-CALDESC:Events for Urbana Place Senior Living in Brooklyn Park
REFRESH-INTERVAL;VALUE=DURATION:PT1H
X-Robots-Tag:noindex
X-PUBLISHED-TTL:PT1H
BEGIN:VTIMEZONE
TZID:America/Chicago
BEGIN:DAYLIGHT
TZOFFSETFROM:-0600
TZOFFSETTO:-0500
TZNAME:CDT
DTSTART:20250309T080000
END:DAYLIGHT
BEGIN:STANDARD
TZOFFSETFROM:-0500
TZOFFSETTO:-0600
TZNAME:CST
DTSTART:20251102T070000
END:STANDARD
END:VTIMEZONE
BEGIN:VEVENT
DTSTART;TZID=America/Chicago:20251229T093000
DTEND;TZID=America/Chicago:20251229T100000
DTSTAMP:20260419T225134
CREATED:20251130T001323Z
LAST-MODIFIED:20251229T005812Z
UID:10003638-1767000600-1767002400@urbanaplaceseniorliving.com
SUMMARY:Weights and Grip Class
DESCRIPTION:Wake your body up with this morning exercise class! All abilities welcome!
URL:https://urbanaplaceseniorliving.com/event-calendar/weights-and-grip-class-31/
LOCATION:Wellness Center-2nd
CATEGORIES:Assisted Living
END:VEVENT
BEGIN:VEVENT
DTSTART;TZID=America/Chicago:20251229T133000
DTEND;TZID=America/Chicago:20251229T143000
DTSTAMP:20260419T225134
CREATED:20251130T001323Z
LAST-MODIFIED:20251229T005812Z
UID:10003639-1767015000-1767018600@urbanaplaceseniorliving.com
SUMMARY:Bingo
DESCRIPTION:
URL:https://urbanaplaceseniorliving.com/event-calendar/bingo-52/
LOCATION:Community Room-1st
CATEGORIES:Assisted Living
END:VEVENT
BEGIN:VEVENT
DTSTART;TZID=America/Chicago:20251229T144500
DTEND;TZID=America/Chicago:20251229T154500
DTSTAMP:20260419T225134
CREATED:20251130T001323Z
LAST-MODIFIED:20251229T005812Z
UID:10003640-1767019500-1767023100@urbanaplaceseniorliving.com
SUMMARY:December Bday Social
DESCRIPTION:Let’s celebrate all those born in December!
URL:https://urbanaplaceseniorliving.com/event-calendar/december-bday-social/
LOCATION:Bistro-1st
CATEGORIES:Assisted Living
END:VEVENT
BEGIN:VEVENT
DTSTART;TZID=America/Chicago:20251229T180000
DTEND;TZID=America/Chicago:20251229T190000
DTSTAMP:20260419T225134
CREATED:20251130T001323Z
LAST-MODIFIED:20251230T005819Z
UID:10003641-1767031200-1767034800@urbanaplaceseniorliving.com
SUMMARY:Play Yahtzee
DESCRIPTION:
URL:https://urbanaplaceseniorliving.com/event-calendar/play-yahtzee-7/
LOCATION:Lounge-2nd
CATEGORIES:Assisted Living
END:VEVENT
END:VCALENDAR