BEGIN:VCALENDAR
VERSION:2.0
PRODID:-//Urbana Place Senior Living in Brooklyn Park - ECPv6.11.2.1//NONSGML v1.0//EN
CALSCALE:GREGORIAN
METHOD:PUBLISH
X-WR-CALNAME:Urbana Place Senior Living in Brooklyn Park
X-ORIGINAL-URL:https://urbanaplaceseniorliving.com
X-WR-CALDESC:Events for Urbana Place Senior Living in Brooklyn Park
REFRESH-INTERVAL;VALUE=DURATION:PT1H
X-Robots-Tag:noindex
X-PUBLISHED-TTL:PT1H
BEGIN:VTIMEZONE
TZID:America/Chicago
BEGIN:DAYLIGHT
TZOFFSETFROM:-0600
TZOFFSETTO:-0500
TZNAME:CDT
DTSTART:20250309T080000
END:DAYLIGHT
BEGIN:STANDARD
TZOFFSETFROM:-0500
TZOFFSETTO:-0600
TZNAME:CST
DTSTART:20251102T070000
END:STANDARD
END:VTIMEZONE
BEGIN:VEVENT
DTSTART;TZID=America/Chicago:20251227T090000
DTEND;TZID=America/Chicago:20251227T100000
DTSTAMP:20260420T002728
CREATED:20251128T122827Z
LAST-MODIFIED:20251227T005836Z
UID:10003616-1766826000-1766829600@urbanaplaceseniorliving.com
SUMMARY:Independent Exercise(all day)
DESCRIPTION:
URL:https://urbanaplaceseniorliving.com/event-calendar/independent-exerciseall-day-35/
LOCATION:Wellness Center-2nd floor
CATEGORIES:Assisted Living
END:VEVENT
BEGIN:VEVENT
DTSTART;TZID=America/Chicago:20251227T090000
DTEND;TZID=America/Chicago:20251227T110000
DTSTAMP:20260420T002728
CREATED:20251128T122827Z
LAST-MODIFIED:20251227T005836Z
UID:10003617-1766826000-1766833200@urbanaplaceseniorliving.com
SUMMARY:Beth Yeshua Virtual Service
DESCRIPTION:Beth Yeshua International ties you to your roots. If you are Jewish\, our joyous worship will stir your soul. If you are Christian\, our synagogue gives you a chance to explore the Jewish roots of your faith. All are welcome!
URL:https://urbanaplaceseniorliving.com/event-calendar/beth-yeshua-virtual-service-34/
LOCATION:Wellness Center-2nd
CATEGORIES:Assisted Living
END:VEVENT
BEGIN:VEVENT
DTSTART;TZID=America/Chicago:20251227T100000
DTEND;TZID=America/Chicago:20251227T110000
DTSTAMP:20260420T002728
CREATED:20251128T122827Z
LAST-MODIFIED:20251227T005836Z
UID:10003618-1766829600-1766833200@urbanaplaceseniorliving.com
SUMMARY:Word Games & Puzzles
DESCRIPTION:Join your friends and neighbors in the 2nd floor Pub to challenge your brain
URL:https://urbanaplaceseniorliving.com/event-calendar/word-games-puzzles-34/
LOCATION:Pub-2nd
CATEGORIES:Assisted Living
END:VEVENT
BEGIN:VEVENT
DTSTART;TZID=America/Chicago:20251227T130000
DTEND;TZID=America/Chicago:20251227T140000
DTSTAMP:20260420T002728
CREATED:20251128T122827Z
LAST-MODIFIED:20251227T005836Z
UID:10003619-1766840400-1766844000@urbanaplaceseniorliving.com
SUMMARY:500 Card Club
DESCRIPTION:Calling all 500 card players! Come to the 2nd floor Pub to play some 500!
URL:https://urbanaplaceseniorliving.com/event-calendar/500-card-club-20/
LOCATION:Pub-2nd
CATEGORIES:Assisted Living
END:VEVENT
BEGIN:VEVENT
DTSTART;TZID=America/Chicago:20251227T181500
DTEND;TZID=America/Chicago:20251227T201500
DTSTAMP:20260420T002728
CREATED:20251128T122827Z
LAST-MODIFIED:20251228T005811Z
UID:10003620-1766859300-1766866500@urbanaplaceseniorliving.com
SUMMARY:Movie 'Rockettes Christmas Spectacular'
DESCRIPTION:
URL:https://urbanaplaceseniorliving.com/event-calendar/movie-rockettes-christmas-spectacular/
LOCATION:Pub-2nd
CATEGORIES:Assisted Living
END:VEVENT
END:VCALENDAR