BEGIN:VCALENDAR
VERSION:2.0
PRODID:-//Urbana Place Senior Living in Brooklyn Park - ECPv6.11.2.1//NONSGML v1.0//EN
CALSCALE:GREGORIAN
METHOD:PUBLISH
X-WR-CALNAME:Urbana Place Senior Living in Brooklyn Park
X-ORIGINAL-URL:https://urbanaplaceseniorliving.com
X-WR-CALDESC:Events for Urbana Place Senior Living in Brooklyn Park
REFRESH-INTERVAL;VALUE=DURATION:PT1H
X-Robots-Tag:noindex
X-PUBLISHED-TTL:PT1H
BEGIN:VTIMEZONE
TZID:America/Chicago
BEGIN:DAYLIGHT
TZOFFSETFROM:-0600
TZOFFSETTO:-0500
TZNAME:CDT
DTSTART:20250309T080000
END:DAYLIGHT
BEGIN:STANDARD
TZOFFSETFROM:-0500
TZOFFSETTO:-0600
TZNAME:CST
DTSTART:20251102T070000
END:STANDARD
END:VTIMEZONE
BEGIN:VEVENT
DTSTART;TZID=America/Chicago:20251225T103000
DTEND;TZID=America/Chicago:20251225T113000
DTSTAMP:20260420T002730
CREATED:20251125T145819Z
LAST-MODIFIED:20251225T005821Z
UID:10003552-1766658600-1766662200@urbanaplaceseniorliving.com
SUMMARY:Virtual Christmas Mass
DESCRIPTION:The Basilica of the National Shrine will be streaming their Christmas Day Mass
URL:https://urbanaplaceseniorliving.com/event-calendar/virtual-christmas-mass-w-st-peters-basilica/
LOCATION:Community Room-1st
CATEGORIES:Assisted Living
END:VEVENT
BEGIN:VEVENT
DTSTART;TZID=America/Chicago:20251225T130000
DTEND;TZID=America/Chicago:20251225T140000
DTSTAMP:20260420T002730
CREATED:20251128T122827Z
LAST-MODIFIED:20251225T005822Z
UID:10003612-1766667600-1766671200@urbanaplaceseniorliving.com
SUMMARY:Holiday Word Games
DESCRIPTION:Stop by the Pub to grab some Holiday Word Games to engage your brain
URL:https://urbanaplaceseniorliving.com/event-calendar/holiday-word-games/
LOCATION:Pub-2nd
CATEGORIES:Assisted Living
END:VEVENT
BEGIN:VEVENT
DTSTART;TZID=America/Chicago:20251225T181500
DTEND;TZID=America/Chicago:20251225T191500
DTSTAMP:20260420T002730
CREATED:20251128T122827Z
LAST-MODIFIED:20251226T005811Z
UID:10003613-1766686500-1766690100@urbanaplaceseniorliving.com
SUMMARY:Featured Movie
DESCRIPTION:
URL:https://urbanaplaceseniorliving.com/event-calendar/featured-movie-31/
LOCATION:Pub-2nd
CATEGORIES:Assisted Living
END:VEVENT
END:VCALENDAR