BEGIN:VCALENDAR
VERSION:2.0
PRODID:-//Urbana Place Senior Living in Brooklyn Park - ECPv6.11.2.1//NONSGML v1.0//EN
CALSCALE:GREGORIAN
METHOD:PUBLISH
X-WR-CALNAME:Urbana Place Senior Living in Brooklyn Park
X-ORIGINAL-URL:https://urbanaplaceseniorliving.com
X-WR-CALDESC:Events for Urbana Place Senior Living in Brooklyn Park
REFRESH-INTERVAL;VALUE=DURATION:PT1H
X-Robots-Tag:noindex
X-PUBLISHED-TTL:PT1H
BEGIN:VTIMEZONE
TZID:America/Chicago
BEGIN:DAYLIGHT
TZOFFSETFROM:-0600
TZOFFSETTO:-0500
TZNAME:CDT
DTSTART:20250309T080000
END:DAYLIGHT
BEGIN:STANDARD
TZOFFSETFROM:-0500
TZOFFSETTO:-0600
TZNAME:CST
DTSTART:20251102T070000
END:STANDARD
END:VTIMEZONE
BEGIN:VEVENT
DTSTART;TZID=America/Chicago:20251222T093000
DTEND;TZID=America/Chicago:20251222T100000
DTSTAMP:20260420T002727
CREATED:20251123T144316Z
LAST-MODIFIED:20251222T005810Z
UID:10003494-1766395800-1766397600@urbanaplaceseniorliving.com
SUMMARY:Weights and Grip Class
DESCRIPTION:Wake your body up with this morning exercise class! All abilities welcome!
URL:https://urbanaplaceseniorliving.com/event-calendar/weights-and-grip-class-30/
LOCATION:Wellness Center-2nd
CATEGORIES:Assisted Living
END:VEVENT
BEGIN:VEVENT
DTSTART;TZID=America/Chicago:20251222T103000
DTEND;TZID=America/Chicago:20251222T113000
DTSTAMP:20260420T002727
CREATED:20251123T144316Z
LAST-MODIFIED:20251222T011311Z
UID:10003495-1766399400-1766403000@urbanaplaceseniorliving.com
SUMMARY:Christmas Worship and Communion w/Chaplain Russell
DESCRIPTION:Join Chaplain Russell for a special Christmas Worship Service with Communion in the Community Room
URL:https://urbanaplaceseniorliving.com/event-calendar/christmas-worship-and-communion-w-chaplain-russell/
LOCATION:Community Room-1st
CATEGORIES:Assisted Living,Legacy Court
END:VEVENT
BEGIN:VEVENT
DTSTART;TZID=America/Chicago:20251222T133000
DTEND;TZID=America/Chicago:20251222T143000
DTSTAMP:20260420T002727
CREATED:20251123T144316Z
LAST-MODIFIED:20251222T005811Z
UID:10003496-1766410200-1766413800@urbanaplaceseniorliving.com
SUMMARY:Bingo
DESCRIPTION:
URL:https://urbanaplaceseniorliving.com/event-calendar/bingo-49/
LOCATION:Community Room-1st
CATEGORIES:Assisted Living
END:VEVENT
BEGIN:VEVENT
DTSTART;TZID=America/Chicago:20251222T180000
DTEND;TZID=America/Chicago:20251222T190000
DTSTAMP:20260420T002727
CREATED:20251123T144316Z
LAST-MODIFIED:20251223T005815Z
UID:10003497-1766426400-1766430000@urbanaplaceseniorliving.com
SUMMARY:Play Dominos
DESCRIPTION:
URL:https://urbanaplaceseniorliving.com/event-calendar/play-dominos-26/
LOCATION:Lounge-2nd
CATEGORIES:Assisted Living
END:VEVENT
END:VCALENDAR