BEGIN:VCALENDAR
VERSION:2.0
PRODID:-//Urbana Place Senior Living in Brooklyn Park - ECPv6.11.2.1//NONSGML v1.0//EN
CALSCALE:GREGORIAN
METHOD:PUBLISH
X-ORIGINAL-URL:https://urbanaplaceseniorliving.com
X-WR-CALDESC:Events for Urbana Place Senior Living in Brooklyn Park
REFRESH-INTERVAL;VALUE=DURATION:PT1H
X-Robots-Tag:noindex
X-PUBLISHED-TTL:PT1H
BEGIN:VTIMEZONE
TZID:America/Chicago
BEGIN:DAYLIGHT
TZOFFSETFROM:-0600
TZOFFSETTO:-0500
TZNAME:CDT
DTSTART:20250309T080000
END:DAYLIGHT
BEGIN:STANDARD
TZOFFSETFROM:-0500
TZOFFSETTO:-0600
TZNAME:CST
DTSTART:20251102T070000
END:STANDARD
END:VTIMEZONE
BEGIN:VEVENT
DTSTART;TZID=America/Chicago:20251210T090000
DTEND;TZID=America/Chicago:20251210T100000
DTSTAMP:20260420T002907
CREATED:20251111T131319Z
LAST-MODIFIED:20251210T004359Z
UID:10003331-1765357200-1765360800@urbanaplaceseniorliving.com
SUMMARY:Coffee Bar
DESCRIPTION:Grab a friend and come to the Bistro for a cup of coffee and conversation! Fresh coffee and flavored creamers will be available
URL:https://urbanaplaceseniorliving.com/event-calendar/coffee-bar-6/
LOCATION:Bistro-1st
CATEGORIES:Assisted Living,Legacy Court
END:VEVENT
BEGIN:VEVENT
DTSTART;TZID=America/Chicago:20251210T093000
DTEND;TZID=America/Chicago:20251210T103000
DTSTAMP:20260420T002907
CREATED:20251111T131319Z
LAST-MODIFIED:20251210T002820Z
UID:10003332-1765359000-1765362600@urbanaplaceseniorliving.com
SUMMARY:News & Views
DESCRIPTION:There is so much going on in the world around us. Come to the Bistro to have conversation with your neighbors about current events or anything you like.
URL:https://urbanaplaceseniorliving.com/event-calendar/news-views-16/
LOCATION:Bistro-1st
CATEGORIES:Assisted Living
END:VEVENT
BEGIN:VEVENT
DTSTART;TZID=America/Chicago:20251210T110000
DTEND;TZID=America/Chicago:20251210T113000
DTSTAMP:20260420T002907
CREATED:20251111T131319Z
LAST-MODIFIED:20251210T002820Z
UID:10003333-1765364400-1765366200@urbanaplaceseniorliving.com
SUMMARY:Chair Cardio w/Jackie
DESCRIPTION:This exercise class is for all abilities
URL:https://urbanaplaceseniorliving.com/event-calendar/chair-cardio-w-jackie-20/
LOCATION:Wellness Center-2nd
CATEGORIES:Assisted Living
END:VEVENT
BEGIN:VEVENT
DTSTART;TZID=America/Chicago:20251210T130000
DTEND;TZID=America/Chicago:20251210T140000
DTSTAMP:20260420T002907
CREATED:20251111T131319Z
LAST-MODIFIED:20251210T002820Z
UID:10003334-1765371600-1765375200@urbanaplaceseniorliving.com
SUMMARY:Balance Clinic w/Aegis Therapies
DESCRIPTION:Come to the 2nd floor Wellness Center for this free Balance Clinic w/ Aegis Therapies. Treats will be provided
URL:https://urbanaplaceseniorliving.com/event-calendar/balance-clinic-w-aegis-therapies/
LOCATION:Wellness Center-2nd
CATEGORIES:Assisted Living
END:VEVENT
BEGIN:VEVENT
DTSTART;TZID=America/Chicago:20251210T140000
DTEND;TZID=America/Chicago:20251210T150000
DTSTAMP:20260420T002907
CREATED:20251111T131319Z
LAST-MODIFIED:20251210T004359Z
UID:10003335-1765375200-1765378800@urbanaplaceseniorliving.com
SUMMARY:Hymn Sing w/Chaplain Russell
DESCRIPTION:Join Chaplain Russell to sing\, hum\, whistle or just listen to some classic hymns
URL:https://urbanaplaceseniorliving.com/event-calendar/hymn-sing-w-chaplain-russell-23/
LOCATION:Community Room-1st
CATEGORIES:Assisted Living,Legacy Court
END:VEVENT
END:VCALENDAR