BEGIN:VCALENDAR
VERSION:2.0
PRODID:-//Urbana Place Senior Living in Brooklyn Park - ECPv6.11.2.1//NONSGML v1.0//EN
CALSCALE:GREGORIAN
METHOD:PUBLISH
X-ORIGINAL-URL:https://urbanaplaceseniorliving.com
X-WR-CALDESC:Events for Urbana Place Senior Living in Brooklyn Park
REFRESH-INTERVAL;VALUE=DURATION:PT1H
X-Robots-Tag:noindex
X-PUBLISHED-TTL:PT1H
BEGIN:VTIMEZONE
TZID:America/Chicago
BEGIN:DAYLIGHT
TZOFFSETFROM:-0600
TZOFFSETTO:-0500
TZNAME:CDT
DTSTART:20250309T080000
END:DAYLIGHT
BEGIN:STANDARD
TZOFFSETFROM:-0500
TZOFFSETTO:-0600
TZNAME:CST
DTSTART:20251102T070000
END:STANDARD
END:VTIMEZONE
BEGIN:VEVENT
DTSTART;TZID=America/Chicago:20251209T130000
DTEND;TZID=America/Chicago:20251209T140000
DTSTAMP:20260420T003024
CREATED:20251110T125822Z
LAST-MODIFIED:20251209T002845Z
UID:10003316-1765285200-1765288800@urbanaplaceseniorliving.com
SUMMARY:SPARK Challenge Final 4
DESCRIPTION:
URL:https://urbanaplaceseniorliving.com/event-calendar/spark-challenge-final-4/
LOCATION:Community Room-1st
CATEGORIES:Assisted Living
END:VEVENT
BEGIN:VEVENT
DTSTART;TZID=America/Chicago:20251209T140000
DTEND;TZID=America/Chicago:20251209T150000
DTSTAMP:20260420T003024
CREATED:20251110T125822Z
LAST-MODIFIED:20251209T004315Z
UID:10003317-1765288800-1765292400@urbanaplaceseniorliving.com
SUMMARY:Men's Group w/Dan
DESCRIPTION:Join our volunteer Dan\, also known as Jackie’s Dad\, for great conversation on a variety of topics. Snack & drink provided
URL:https://urbanaplaceseniorliving.com/event-calendar/mens-group-w-dan-2/
LOCATION:Community Room-1st
CATEGORIES:Assisted Living,Legacy Court
END:VEVENT
BEGIN:VEVENT
DTSTART;TZID=America/Chicago:20251209T153000
DTEND;TZID=America/Chicago:20251209T163000
DTSTAMP:20260420T003024
CREATED:20251110T125823Z
LAST-MODIFIED:20251209T002845Z
UID:10003318-1765294200-1765297800@urbanaplaceseniorliving.com
SUMMARY:Play Wheel of Fortune
DESCRIPTION:
URL:https://urbanaplaceseniorliving.com/event-calendar/play-wheel-of-fortune-32/
LOCATION:Pub-2nd
CATEGORIES:Assisted Living
END:VEVENT
END:VCALENDAR