BEGIN:VCALENDAR
VERSION:2.0
PRODID:-//Urbana Place Senior Living in Brooklyn Park - ECPv6.11.2.1//NONSGML v1.0//EN
CALSCALE:GREGORIAN
METHOD:PUBLISH
X-ORIGINAL-URL:https://urbanaplaceseniorliving.com
X-WR-CALDESC:Events for Urbana Place Senior Living in Brooklyn Park
REFRESH-INTERVAL;VALUE=DURATION:PT1H
X-Robots-Tag:noindex
X-PUBLISHED-TTL:PT1H
BEGIN:VTIMEZONE
TZID:America/Chicago
BEGIN:DAYLIGHT
TZOFFSETFROM:-0600
TZOFFSETTO:-0500
TZNAME:CDT
DTSTART:20250309T080000
END:DAYLIGHT
BEGIN:STANDARD
TZOFFSETFROM:-0500
TZOFFSETTO:-0600
TZNAME:CST
DTSTART:20251102T070000
END:STANDARD
END:VTIMEZONE
BEGIN:VEVENT
DTSTART;TZID=America/Chicago:20251202T090000
DTEND;TZID=America/Chicago:20251202T110000
DTSTAMP:20260420T002855
CREATED:20251103T125815Z
LAST-MODIFIED:20251104T125818Z
UID:10003210-1764666000-1764673200@urbanaplaceseniorliving.com
SUMMARY:Pendants & Parfaits
DESCRIPTION:Bring your emergency pendant to the Bistro between 9-11am for a safety check to ensure it is working properly and replace batteries if needed. Enjoy a fruit & yogurt parfait as well!
URL:https://urbanaplaceseniorliving.com/event-calendar/pendants-parfaits-8/
LOCATION:Bistro-1st
CATEGORIES:Assisted Living
END:VEVENT
BEGIN:VEVENT
DTSTART;TZID=America/Chicago:20251202T094500
DTEND;TZID=America/Chicago:20251202T104500
DTSTAMP:20260420T002856
CREATED:20251103T125815Z
LAST-MODIFIED:20251202T002813Z
UID:10003211-1764668700-1764672300@urbanaplaceseniorliving.com
SUMMARY:Manicures
DESCRIPTION:
URL:https://urbanaplaceseniorliving.com/event-calendar/manicures-42/
LOCATION:Bistro-1st
CATEGORIES:Assisted Living
END:VEVENT
BEGIN:VEVENT
DTSTART;TZID=America/Chicago:20251202T124500
DTEND;TZID=America/Chicago:20251202T134500
DTSTAMP:20260420T002856
CREATED:20251103T125815Z
LAST-MODIFIED:20251202T002813Z
UID:10003212-1764679500-1764683100@urbanaplaceseniorliving.com
SUMMARY:SPARK Deep Dive
DESCRIPTION:Join the SPARK Challenge Deep Dive. This is where we get the materials to be able to compete in the game show on Wednesdays
URL:https://urbanaplaceseniorliving.com/event-calendar/spark-deep-dive-7/
LOCATION:Community Room-1st
CATEGORIES:Assisted Living
END:VEVENT
BEGIN:VEVENT
DTSTART;TZID=America/Chicago:20251202T140000
DTEND;TZID=America/Chicago:20251202T150000
DTSTAMP:20260420T002856
CREATED:20251103T125815Z
LAST-MODIFIED:20251202T041317Z
UID:10003213-1764684000-1764687600@urbanaplaceseniorliving.com
SUMMARY:Craft Group 'wood block gnomes' Card & Stamp Store
DESCRIPTION:Join Laurie for this fun holiday craft! All abilities are welcome!
URL:https://urbanaplaceseniorliving.com/event-calendar/craft-group-card-stamp-store-15/
LOCATION:Bistro-1st
CATEGORIES:Assisted Living,Legacy Court
END:VEVENT
BEGIN:VEVENT
DTSTART;TZID=America/Chicago:20251202T150000
DTEND;TZID=America/Chicago:20251202T160000
DTSTAMP:20260420T002856
CREATED:20251106T125816Z
LAST-MODIFIED:20251202T002813Z
UID:10003253-1764687600-1764691200@urbanaplaceseniorliving.com
SUMMARY:Decorate Christmas Tree
DESCRIPTION:Come to the Community Room to help decorate the tree
URL:https://urbanaplaceseniorliving.com/event-calendar/decorate-christmas-tree/
LOCATION:Community Room-1st
CATEGORIES:Assisted Living
END:VEVENT
END:VCALENDAR